BEGIN:VCALENDAR
VERSION:2.0
PRODID:-//Bikezone - ECPv6.15.13.1//NONSGML v1.0//EN
CALSCALE:GREGORIAN
METHOD:PUBLISH
X-WR-CALNAME:Bikezone
X-ORIGINAL-URL:https://bikezone.com.gt
X-WR-CALDESC:Eventos para Bikezone
REFRESH-INTERVAL;VALUE=DURATION:PT1H
X-Robots-Tag:noindex
X-PUBLISHED-TTL:PT1H
BEGIN:VTIMEZONE
TZID:America/Chicago
BEGIN:DAYLIGHT
TZOFFSETFROM:-0600
TZOFFSETTO:-0500
TZNAME:CDT
DTSTART:20240310T080000
END:DAYLIGHT
BEGIN:STANDARD
TZOFFSETFROM:-0500
TZOFFSETTO:-0600
TZNAME:CST
DTSTART:20241103T070000
END:STANDARD
BEGIN:DAYLIGHT
TZOFFSETFROM:-0600
TZOFFSETTO:-0500
TZNAME:CDT
DTSTART:20250309T080000
END:DAYLIGHT
BEGIN:STANDARD
TZOFFSETFROM:-0500
TZOFFSETTO:-0600
TZNAME:CST
DTSTART:20251102T070000
END:STANDARD
BEGIN:DAYLIGHT
TZOFFSETFROM:-0600
TZOFFSETTO:-0500
TZNAME:CDT
DTSTART:20260308T080000
END:DAYLIGHT
BEGIN:STANDARD
TZOFFSETFROM:-0500
TZOFFSETTO:-0600
TZNAME:CST
DTSTART:20261101T070000
END:STANDARD
BEGIN:DAYLIGHT
TZOFFSETFROM:-0600
TZOFFSETTO:-0500
TZNAME:CDT
DTSTART:20270314T080000
END:DAYLIGHT
BEGIN:STANDARD
TZOFFSETFROM:-0500
TZOFFSETTO:-0600
TZNAME:CST
DTSTART:20271107T070000
END:STANDARD
BEGIN:DAYLIGHT
TZOFFSETFROM:-0600
TZOFFSETTO:-0500
TZNAME:CDT
DTSTART:20280312T080000
END:DAYLIGHT
BEGIN:STANDARD
TZOFFSETFROM:-0500
TZOFFSETTO:-0600
TZNAME:CST
DTSTART:20281105T070000
END:STANDARD
BEGIN:DAYLIGHT
TZOFFSETFROM:-0600
TZOFFSETTO:-0500
TZNAME:CDT
DTSTART:20290311T080000
END:DAYLIGHT
BEGIN:STANDARD
TZOFFSETFROM:-0500
TZOFFSETTO:-0600
TZNAME:CST
DTSTART:20291104T070000
END:STANDARD
BEGIN:DAYLIGHT
TZOFFSETFROM:-0600
TZOFFSETTO:-0500
TZNAME:CDT
DTSTART:20300310T080000
END:DAYLIGHT
BEGIN:STANDARD
TZOFFSETFROM:-0500
TZOFFSETTO:-0600
TZNAME:CST
DTSTART:20301103T070000
END:STANDARD
BEGIN:DAYLIGHT
TZOFFSETFROM:-0600
TZOFFSETTO:-0500
TZNAME:CDT
DTSTART:20310309T080000
END:DAYLIGHT
BEGIN:STANDARD
TZOFFSETFROM:-0500
TZOFFSETTO:-0600
TZNAME:CST
DTSTART:20311102T070000
END:STANDARD
END:VTIMEZONE
BEGIN:VEVENT
DTSTART;VALUE=DATE:20250112
DTEND;VALUE=DATE:20300108
DTSTAMP:20260415T061055
CREATED:20170826T052759Z
LAST-MODIFIED:20170826T052759Z
UID:14351-1736704800-1894039199@bikezone.com.gt
SUMMARY:Cultural & thematic tours
DESCRIPTION:SANTA BARBARA IS WAITING\n\n	\n	\n	\n\n\n\n			\n	\n	\n		\n	Imagine yourself on the same roads as some of the world’s most elite riders\, including 4 years of the Tour of California. \n\n	\n\n\n\n	\n		\n	\n\n\n	\n						\n		\n\n			\n	\n\n			\n	\n	\n		\n	Escape the concrete jungle with a 6-day tour of California’s central coast. With diverse landscapes ranging from sandy beaches of the Pacific Coast Highway to the rolling vine covered hillsides of wine country\, California’s Central Coast is home to some of the premier cycling terrain in the world. Imagine yourself on the same roads as some of the world’s most elite riders\, including 4 years of the Tour of California in the past decade\, as well as the annual spring training for the Tour de France. \nThe flexibility of multiple route options available to all skill levels\, and the assistance of our cycling expert\, make this the active vacation experience you’ve been dreaming of. \n\n	\n\n\n	\n		\n	\n	\n	Starting at $32\n\n	\n	\n	\n\n\n\n	\n\n	\n		\n	\n\n\n	\n		\n	\n	\n	\n\n	\n	\n	\n\n\n\n			\n	\n	\n		\n	\n	\n	Skill level\n\n	\n	\n	\n\n\n	\n		\n			\n			\n			\n							\n					\n					48				\n			\n			\n			\n		\n	\n	\n\n\n\n			\n	\n	\n		\n	\n	\n	Approx. time\n\n	\n	\n	\n\n\n	\n		\n	\n					\n			\n\n		\n					3 Hours & 45 Min.			\n	\n	\n\n\n\n			\n	\n	\n		\n	\n	\n	Distance\n\n	\n	\n	\n\n\n	\n		\n	\n					\n			\n\n		\n					6.5 Miles			\n	\n	\n\n\n\n	\n\n\n			\n	\n\n	\n\n\n			\n	\n\n			\n	\n	\n		\n	\n	\n	Additional tour info\n\n	\n	\n	\n\n\n	\n		\n	\n\n\n	\n		\n	The flexibility of multiple route options available to all skill levels\, and the assistance of our cycling expert\, make this the active vacation experience you’ve been dreaming of. \n\nCycling Expert and ‘on the road’ support staff and vehicle\nCustom Fitting on 2018 Specialized Diverge Comp Cycle\n\n\n	\n\n\n\n			\n	\n	\n		\n	\n	\n	Tour pricing\n\n	\n	\n	\n\n\n	\n		\n	\n\n\n	\n		\n	$37 for a Deluxe Infinity Shifting Bike\n$49 for an Electric Bike\n$32 for a Comfort Hybrid Bike\n$32 for a Deluxe Comfort Mountain Bike\n$48 for a Road Bike\n$60 for a Comfort Tandem\n$20 for a Youth Bike \n\n	\n\n\n	\n		\n	\n\n		\n					Promotions\n		\n		\n	\n\n	\n\n\n\n	\n\n\n			\n	\n	\n		\n	\n	\n	Included with every bike rental:\n\n	\n	\n	\n\n\n	\n		\n	All rental guidelines → \n\n	\n\n\n\n	\n\n	\n		\n	\n\n\n\n			\n	\n	\n		\n	\n					\n			\n\n		\n					Helmet			\n	\n	\n\n\n\n			\n	\n	\n		\n	\n					\n			\n\n		\n					Bike lock			\n	\n	\n\n\n\n			\n	\n	\n		\n	\n					\n			\n\n		\n					GPS-Guided audio tour			\n	\n	\n\n\n\n			\n	\n	\n		\n	\n					\n			\n\n		\n					Basket/bike bag
URL:https://bikezone.com.gt/classes/cultural-thematic-tours/
LOCATION:Fisherman’s Wharf\, 425 Jefferson str.\, San Francisco\, CA\, 94109\, United States
CATEGORIES:City,Tour
ATTACH;FMTTYPE=image/jpeg:https://bikezone.com.gt/wp-content/uploads/2017/08/photo-03.jpg
ORGANIZER;CN="Michael & Ashley":MAILTO:junk@vamtam.com
END:VEVENT
BEGIN:VEVENT
DTSTART;TZID=America/Chicago:20250623T020000
DTEND;TZID=America/Chicago:20290630T110000
DTSTAMP:20260415T061055
CREATED:20170826T045526Z
LAST-MODIFIED:20170826T045526Z
UID:14346-1750644000-1877511600@bikezone.com.gt
SUMMARY:Explore Central Park
DESCRIPTION:SANTA BARBARA IS WAITING\n\n	\n	\n	\n\n\n\n			\n	\n	\n		\n	Imagine yourself on the same roads as some of the world’s most elite riders\, including 4 years of the Tour of California. \n\n	\n\n\n\n	\n		\n	\n\n\n	\n						\n		\n\n			\n	\n\n			\n	\n	\n		\n	Escape the concrete jungle with a 6-day tour of California’s central coast. With diverse landscapes ranging from sandy beaches of the Pacific Coast Highway to the rolling vine covered hillsides of wine country\, California’s Central Coast is home to some of the premier cycling terrain in the world. Imagine yourself on the same roads as some of the world’s most elite riders\, including 4 years of the Tour of California in the past decade\, as well as the annual spring training for the Tour de France. \nThe flexibility of multiple route options available to all skill levels\, and the assistance of our cycling expert\, make this the active vacation experience you’ve been dreaming of. \n\n	\n\n\n	\n		\n	\n	\n	Starting at $32\n\n	\n	\n	\n\n\n\n	\n\n	\n		\n	\n\n\n	\n		\n	\n	\n	\n\n	\n	\n	\n\n\n\n			\n	\n	\n		\n	\n	\n	Skill level\n\n	\n	\n	\n\n\n	\n		\n			\n			\n			\n							\n					\n					48				\n			\n			\n			\n		\n	\n	\n\n\n\n			\n	\n	\n		\n	\n	\n	Approx. time\n\n	\n	\n	\n\n\n	\n		\n	\n					\n			\n\n		\n					3 Hours & 45 Min.			\n	\n	\n\n\n\n			\n	\n	\n		\n	\n	\n	Distance\n\n	\n	\n	\n\n\n	\n		\n	\n					\n			\n\n		\n					6.5 Miles			\n	\n	\n\n\n\n	\n\n\n			\n	\n\n	\n\n\n			\n	\n\n			\n	\n	\n		\n	\n	\n	Additional tour info\n\n	\n	\n	\n\n\n	\n		\n	\n\n\n	\n		\n	The flexibility of multiple route options available to all skill levels\, and the assistance of our cycling expert\, make this the active vacation experience you’ve been dreaming of. \n\nCycling Expert and ‘on the road’ support staff and vehicle\nCustom Fitting on 2018 Specialized Diverge Comp Cycle\n\n\n	\n\n\n\n			\n	\n	\n		\n	\n	\n	Tour pricing\n\n	\n	\n	\n\n\n	\n		\n	\n\n\n	\n		\n	$37 for a Deluxe Infinity Shifting Bike\n$49 for an Electric Bike\n$32 for a Comfort Hybrid Bike\n$32 for a Deluxe Comfort Mountain Bike\n$48 for a Road Bike\n$60 for a Comfort Tandem\n$20 for a Youth Bike \n\n	\n\n\n	\n		\n	\n\n		\n					Promotions\n		\n		\n	\n\n	\n\n\n\n	\n\n\n			\n	\n	\n		\n	\n	\n	Included with every bike rental:\n\n	\n	\n	\n\n\n	\n		\n	All rental guidelines → \n\n	\n\n\n\n	\n\n	\n		\n	\n\n\n\n			\n	\n	\n		\n	\n					\n			\n\n		\n					Helmet			\n	\n	\n\n\n\n			\n	\n	\n		\n	\n					\n			\n\n		\n					Bike lock			\n	\n	\n\n\n\n			\n	\n	\n		\n	\n					\n			\n\n		\n					GPS-Guided audio tour			\n	\n	\n\n\n\n			\n	\n	\n		\n	\n					\n			\n\n		\n					Basket/bike bag
URL:https://bikezone.com.gt/classes/explore-central-park/
LOCATION:Fisherman’s Wharf\, 425 Jefferson str.\, San Francisco\, CA\, 94109\, United States
CATEGORIES:Mountain,Tour
ATTACH;FMTTYPE=image/jpeg:https://bikezone.com.gt/wp-content/uploads/2017/08/photo-01.jpg
ORGANIZER;CN="Michael":MAILTO:junk@vamtam.com
END:VEVENT
BEGIN:VEVENT
DTSTART;VALUE=DATE:20250907
DTEND;VALUE=DATE:20290904
DTSTAMP:20260415T061055
CREATED:20170826T051213Z
LAST-MODIFIED:20170826T051213Z
UID:14348-1757268000-1883152799@bikezone.com.gt
SUMMARY:Climb to the highest peak
DESCRIPTION:SANTA BARBARA IS WAITING\n\n	\n	\n	\n\n\n\n			\n	\n	\n		\n	Imagine yourself on the same roads as some of the world’s most elite riders\, including 4 years of the Tour of California. \n\n	\n\n\n\n	\n		\n	\n\n\n	\n						\n		\n\n			\n	\n\n			\n	\n	\n		\n	Escape the concrete jungle with a 6-day tour of California’s central coast. With diverse landscapes ranging from sandy beaches of the Pacific Coast Highway to the rolling vine covered hillsides of wine country\, California’s Central Coast is home to some of the premier cycling terrain in the world. Imagine yourself on the same roads as some of the world’s most elite riders\, including 4 years of the Tour of California in the past decade\, as well as the annual spring training for the Tour de France. \nThe flexibility of multiple route options available to all skill levels\, and the assistance of our cycling expert\, make this the active vacation experience you’ve been dreaming of. \n\n	\n\n\n	\n		\n	\n	\n	Starting at $32\n\n	\n	\n	\n\n\n\n	\n\n	\n		\n	\n\n\n	\n		\n	\n	\n	\n\n	\n	\n	\n\n\n\n			\n	\n	\n		\n	\n	\n	Skill level\n\n	\n	\n	\n\n\n	\n		\n			\n			\n			\n							\n					\n					48				\n			\n			\n			\n		\n	\n	\n\n\n\n			\n	\n	\n		\n	\n	\n	Approx. time\n\n	\n	\n	\n\n\n	\n		\n	\n					\n			\n\n		\n					3 Hours & 45 Min.			\n	\n	\n\n\n\n			\n	\n	\n		\n	\n	\n	Distance\n\n	\n	\n	\n\n\n	\n		\n	\n					\n			\n\n		\n					6.5 Miles			\n	\n	\n\n\n\n	\n\n\n			\n	\n\n	\n\n\n			\n	\n\n			\n	\n	\n		\n	\n	\n	Additional tour info\n\n	\n	\n	\n\n\n	\n		\n	\n\n\n	\n		\n	The flexibility of multiple route options available to all skill levels\, and the assistance of our cycling expert\, make this the active vacation experience you’ve been dreaming of. \n\nCycling Expert and ‘on the road’ support staff and vehicle\nCustom Fitting on 2018 Specialized Diverge Comp Cycle\n\n\n	\n\n\n\n			\n	\n	\n		\n	\n	\n	Tour pricing\n\n	\n	\n	\n\n\n	\n		\n	\n\n\n	\n		\n	$37 for a Deluxe Infinity Shifting Bike\n$49 for an Electric Bike\n$32 for a Comfort Hybrid Bike\n$32 for a Deluxe Comfort Mountain Bike\n$48 for a Road Bike\n$60 for a Comfort Tandem\n$20 for a Youth Bike \n\n	\n\n\n	\n		\n	\n\n		\n					Promotions\n		\n		\n	\n\n	\n\n\n\n	\n\n\n			\n	\n	\n		\n	\n	\n	Included with every bike rental:\n\n	\n	\n	\n\n\n	\n		\n	All rental guidelines → \n\n	\n\n\n\n	\n\n	\n		\n	\n\n\n\n			\n	\n	\n		\n	\n					\n			\n\n		\n					Helmet			\n	\n	\n\n\n\n			\n	\n	\n		\n	\n					\n			\n\n		\n					Bike lock			\n	\n	\n\n\n\n			\n	\n	\n		\n	\n					\n			\n\n		\n					GPS-Guided audio tour			\n	\n	\n\n\n\n			\n	\n	\n		\n	\n					\n			\n\n		\n					Basket/bike bag
URL:https://bikezone.com.gt/classes/climb-to-the-highest-peak/
LOCATION:Fisherman’s Wharf\, 425 Jefferson str.\, San Francisco\, CA\, 94109\, United States
CATEGORIES:City,Mountain,Tour
ATTACH;FMTTYPE=image/jpeg:https://bikezone.com.gt/wp-content/uploads/2017/08/photo-28.jpg
ORGANIZER;CN="Michael":MAILTO:junk@vamtam.com
END:VEVENT
BEGIN:VEVENT
DTSTART;VALUE=DATE:20250915
DTEND;VALUE=DATE:20301018
DTSTAMP:20260415T061055
CREATED:20170826T052445Z
LAST-MODIFIED:20170826T052445Z
UID:14350-1757959200-1918490399@bikezone.com.gt
SUMMARY:Family friendly tours
DESCRIPTION:SANTA BARBARA IS WAITING\n\n	\n	\n	\n\n\n\n			\n	\n	\n		\n	Imagine yourself on the same roads as some of the world’s most elite riders\, including 4 years of the Tour of California. \n\n	\n\n\n\n	\n		\n	\n\n\n	\n						\n		\n\n			\n	\n\n			\n	\n	\n		\n	Escape the concrete jungle with a 6-day tour of California’s central coast. With diverse landscapes ranging from sandy beaches of the Pacific Coast Highway to the rolling vine covered hillsides of wine country\, California’s Central Coast is home to some of the premier cycling terrain in the world. Imagine yourself on the same roads as some of the world’s most elite riders\, including 4 years of the Tour of California in the past decade\, as well as the annual spring training for the Tour de France. \nThe flexibility of multiple route options available to all skill levels\, and the assistance of our cycling expert\, make this the active vacation experience you’ve been dreaming of. \n\n	\n\n\n	\n		\n	\n	\n	Starting at $32\n\n	\n	\n	\n\n\n\n	\n\n	\n		\n	\n\n\n	\n		\n	\n	\n	\n\n	\n	\n	\n\n\n\n			\n	\n	\n		\n	\n	\n	Skill level\n\n	\n	\n	\n\n\n	\n		\n			\n			\n			\n							\n					\n					48				\n			\n			\n			\n		\n	\n	\n\n\n\n			\n	\n	\n		\n	\n	\n	Approx. time\n\n	\n	\n	\n\n\n	\n		\n	\n					\n			\n\n		\n					3 Hours & 45 Min.			\n	\n	\n\n\n\n			\n	\n	\n		\n	\n	\n	Distance\n\n	\n	\n	\n\n\n	\n		\n	\n					\n			\n\n		\n					6.5 Miles			\n	\n	\n\n\n\n	\n\n\n			\n	\n\n	\n\n\n			\n	\n\n			\n	\n	\n		\n	\n	\n	Additional tour info\n\n	\n	\n	\n\n\n	\n		\n	\n\n\n	\n		\n	The flexibility of multiple route options available to all skill levels\, and the assistance of our cycling expert\, make this the active vacation experience you’ve been dreaming of. \n\nCycling Expert and ‘on the road’ support staff and vehicle\nCustom Fitting on 2018 Specialized Diverge Comp Cycle\n\n\n	\n\n\n\n			\n	\n	\n		\n	\n	\n	Tour pricing\n\n	\n	\n	\n\n\n	\n		\n	\n\n\n	\n		\n	$37 for a Deluxe Infinity Shifting Bike\n$49 for an Electric Bike\n$32 for a Comfort Hybrid Bike\n$32 for a Deluxe Comfort Mountain Bike\n$48 for a Road Bike\n$60 for a Comfort Tandem\n$20 for a Youth Bike \n\n	\n\n\n	\n		\n	\n\n		\n					Promotions\n		\n		\n	\n\n	\n\n\n\n	\n\n\n			\n	\n	\n		\n	\n	\n	Included with every bike rental:\n\n	\n	\n	\n\n\n	\n		\n	All rental guidelines → \n\n	\n\n\n\n	\n\n	\n		\n	\n\n\n\n			\n	\n	\n		\n	\n					\n			\n\n		\n					Helmet			\n	\n	\n\n\n\n			\n	\n	\n		\n	\n					\n			\n\n		\n					Bike lock			\n	\n	\n\n\n\n			\n	\n	\n		\n	\n					\n			\n\n		\n					GPS-Guided audio tour			\n	\n	\n\n\n\n			\n	\n	\n		\n	\n					\n			\n\n		\n					Basket/bike bag
URL:https://bikezone.com.gt/classes/family-friendly-tours/
LOCATION:Fisherman’s Wharf\, 425 Jefferson str.\, San Francisco\, CA\, 94109\, United States
CATEGORIES:City,Mountain,Park,Rent,Tour,Trip
ATTACH;FMTTYPE=image/jpeg:https://bikezone.com.gt/wp-content/uploads/2017/08/photo-07.jpg
ORGANIZER;CN="Michael":MAILTO:junk@vamtam.com
END:VEVENT
END:VCALENDAR